BEGIN:VCALENDAR
VERSION:2.0
PRODID:icalendar-ruby
CALSCALE:GREGORIAN
METHOD:PUBLISH
BEGIN:VEVENT
DTSTAMP:20260425T163802Z
UID:319-1383327@salemlutheranponca.org
DTSTART:20260426T153000Z
DTEND:20260426T163000Z
CLASS:PUBLIC
CREATED:20260401T201932
DESCRIPTION:
LAST-MODIFIED:20260401T201932
LOCATION:
SUMMARY:Confirmation
URL;VALUE=URI:https://salemlutheranponca.org/events/confirmation--319/2026-
 04-26
END:VEVENT
END:VCALENDAR
