BEGIN:VCALENDAR
VERSION:2.0
PRODID:icalendar-ruby
CALSCALE:GREGORIAN
METHOD:PUBLISH
BEGIN:VEVENT
DTSTAMP:20260424T203738Z
UID:16-1494744@salemlutheranponca.org
DTSTART:20261025T140000Z
DTEND:20261025T150000Z
CLASS:PUBLIC
CREATED:20260424T144240
DESCRIPTION:
LAST-MODIFIED:20260424T144240
LOCATION:
SUMMARY:Sunday School
URL;VALUE=URI:https://salemlutheranponca.org/events/sunday-school/2026-10-2
 5
END:VEVENT
END:VCALENDAR
