BEGIN:VCALENDAR
VERSION:2.0
PRODID:icalendar-ruby
CALSCALE:GREGORIAN
METHOD:PUBLISH
BEGIN:VEVENT
DTSTAMP:20260424T223204Z
UID:16-1495584@salemlutheranponca.org
DTSTART:20261101T150000Z
DTEND:20261101T160000Z
CLASS:PUBLIC
CREATED:20260424T173029
DESCRIPTION:
LAST-MODIFIED:20260424T173029
LOCATION:
SUMMARY:Sunday School
URL;VALUE=URI:https://salemlutheranponca.org/events/sunday-school/2026-11-0
 1
END:VEVENT
END:VCALENDAR
